BEGIN:VCALENDAR
VERSION:2.0
PRODID:-//eventon.com NONSGML v1.0//EN
CALSCALE:GREGORIAN
METHOD:PUBLISH
BEGIN:VEVENT
UID:69e6007146910
DTSTAMP:20260420T103113Z
DTSTART:20240330
DTEND:20240331
LOCATION:
SUMMARY:British Dressage
DESCRIPTION:\nhttps://kingswoodec.co.uk/events/british-dressage-2/
URL:https://kingswoodec.co.uk/events/british-dressage-2/
END:VEVENT
END:VCALENDAR