BEGIN:VCALENDAR
VERSION:2.0
PRODID:-//eventon.com NONSGML v1.0//EN
CALSCALE:GREGORIAN
METHOD:PUBLISH
BEGIN:VEVENT
UID:69e6036261414
DTSTAMP:20260420T104346Z
DTSTART:20240502
DTEND:20240503
LOCATION:
SUMMARY:Peter Storr Clinic
DESCRIPTION:\nhttps://kingswoodec.co.uk/events/peter-storr-clinic-8/
URL:https://kingswoodec.co.uk/events/peter-storr-clinic-8/
END:VEVENT
END:VCALENDAR